BEGIN:VCALENDAR
VERSION:2.0
PRODID:-//Willkommen im Staat der Vinobarden//NONSGML kigkonsult.se iCalcre
 ator 2.16.12//
METHOD:PUBLISH
X-MS-OLK-FORCEINSPECTOROPEN:TRUE
BEGIN:VEVENT
UID:20260424T103953CEST-3134nvpsoh@Willkommen im Staat der Vinobarden
DTSTAMP:20260424T083953Z
DESCRIPTION:Beschreiben Sie zuerst\, worum es bei Ihrer Veranstaltung geht.
  Ergänzen Sie danach in den Tabs die weiteren Informationen.
DTSTART:20130911T170000
DTEND:20130911T173000
ORGANIZER:MAILTO:Willkommen im Staat der Vinobarden <info@vinobarden.eu>
SUMMARY:Veranstaltung erstellen
END:VEVENT
END:VCALENDAR
